BEGIN:VCALENDAR
VERSION:2.0
PRODID:-//Oceania Football Confederation - ECPv6.0.2//NONSGML v1.0//EN
CALSCALE:GREGORIAN
METHOD:PUBLISH
X-ORIGINAL-URL:https://www.oceaniafootball.com
X-WR-CALDESC:Events for Oceania Football Confederation
REFRESH-INTERVAL;VALUE=DURATION:PT1H
X-Robots-Tag:noindex
X-PUBLISHED-TTL:PT1H
BEGIN:VTIMEZONE
TZID:Pacific/Auckland
BEGIN:STANDARD
TZOFFSETFROM:+1300
TZOFFSETTO:+1200
TZNAME:NZST
DTSTART:20180331T140000
END:STANDARD
BEGIN:DAYLIGHT
TZOFFSETFROM:+1200
TZOFFSETTO:+1300
TZNAME:NZDT
DTSTART:20180929T140000
END:DAYLIGHT
BEGIN:STANDARD
TZOFFSETFROM:+1300
TZOFFSETTO:+1200
TZNAME:NZST
DTSTART:20190406T140000
END:STANDARD
BEGIN:DAYLIGHT
TZOFFSETFROM:+1200
TZOFFSETTO:+1300
TZNAME:NZDT
DTSTART:20190928T140000
END:DAYLIGHT
END:VTIMEZONE
BEGIN:VEVENT
DTSTART;VALUE=DATE:20190126
DTEND;VALUE=DATE:20190202
DTSTAMP:20260426T111459
CREATED:20181216T233406Z
LAST-MODIFIED:20181216T233406Z
UID:31935-1548460800-1549065599@www.oceaniafootball.com
SUMMARY:2019 OFC Champions League Qualifier
DESCRIPTION:OFC Champions League 2019 - Qualifying Stage\n                          Fixtures and Results\n                          Table\n                          Goalscorers\n                    \n                        Match Day 1\n                            Report\n                        \n                            \n                                Match 1\n                                26.01.2019.\n                                14:30\n                                CIFA Academy\n                            \n                            Pago Youth\n                            1 : 5\n                            Lotoha'apai United FC\n                            \n                                \n                                    \n                                \n                            \n                        \n                        \n                            \n                                Match 2\n                                26.01.2019.\n                                17:30\n                                CIFA Academy\n                            \n                            Tupapa Maraerenga FC\n                            4 : 1\n                            Kiwi FC\n                            \n                                \n                                    \n                                \n                            \n                        Match Day 2\n                            Report\n                        \n                            \n                                Match 3\n                                29.01.2019.\n                                14:30\n                                CIFA Academy\n                            \n                            Kiwi FC\n                            4 : 3\n                            Pago Youth\n                            \n                                \n                                    \n                                \n                            \n                        \n                        \n                            \n                                Match 4\n                                29.01.2019.\n                                17:30\n                                CIFA Academy\n                            \n                            Tupapa Maraerenga FC\n                            4 : 1\n                            Lotoha'apai United FC\n                            \n                                \n                                    \n                                \n                            \n                        Match Day 3\n                            Report\n                        \n                            \n                                Match 5\n                                01.02.2019.\n                                14:30\n                                CIFA Academy\n                            \n                            Lotoha'apai United FC\n                            1 : 9\n                            Kiwi FC\n                            \n                                \n                                    \n                                \n                            \n                        \n                        \n                            \n                                Match 6\n                                01.02.2019.\n                                17:30\n                                CIFA Academy\n                            \n                            Tupapa Maraerenga FC\n                            2 : 1\n                            Pago Youth\n                            \n                                \n                                    \n                                \n                            \n                        \n            \n                \n                    \n                        #\n                        Club\n                        Tot\n                        Won\n                        Draw\n                        Lost\n                        G+\n                        G-\n                        GD\n                        Pt\n                    \n                    \n                        1\n                        Tupapa Maraerenga FC\n                        3\n                        3\n                        0\n                        0\n                        10\n                        3\n                        7\n                        9\n                    \n                \n                    \n                        2\n                        Kiwi FC\n                        3\n                        2\n                        0\n                        1\n                        14\n                        8\n                        6\n                        6\n                    \n                \n                    \n                        3\n                        Lotoha'apai United FC\n                        3\n                        1\n                        0\n                        2\n                        7\n                        14\n                        -7\n                        3\n                    \n                \n                    \n                        4\n                        Pago Youth\n                        3\n                        0\n                        0\n                        3\n                        5\n                        11\n                        -6\n                        0\n                    \n                \n                \n            \n            \n                \n                    \n                        6 Goals\n                    \n                    \n                        Paul SCANLAN  (Kiwi FC)\n                        \n                    \n                    \n                    \n                        3 Goals\n                    \n                    \n                        Ben MATA  (Tupapa Maraerenga FC)\, Palauni TAPUSOA  (Pago Youth)\, Tuia FALEPAPALANGI  (Lotoha'apai United FC)\n                        \n                    \n                    \n                    \n                        2 Goals\n                    \n                    \n                        Grover HARMON  (Tupapa Maraerenga FC)\, Harlem SIMIONA  (Tupapa Maraerenga FC)\, Hemaloto POLOVILI  (Lotoha'apai United FC)\, Kitiona NAUER  (Kiwi FC)\, Lotial STOWERS  (Kiwi FC)\n                        \n                    \n                    \n                    \n                        1 Goal\n                    \n                    \n                        Fauzul AHMED  (Tupapa Maraerenga FC)\, Federico DIAZ  (Kiwi FC)\, Jared COLLIGAN  (Tupapa Maraerenga FC)\, Ken KEREWI  (Kiwi FC)\, Lionel TAYLOR  (Kiwi FC)\, Pua FALEPAPALANGI  (Lotoha'apai United FC)\, Puni SAMUELU  (Pago Youth)\, Silao MALO  (Kiwi FC)\, Tyrell BARRINGER-TAHIRI  (Tupapa Maraerenga FC)\, Vai LUTU  (Lotoha'apai United FC)\, Walter PATI  (Pago Youth)
URL:https://www.oceaniafootball.com/events/2019-ofc-champions-league-qualifier/
CATEGORIES:Champions League
ATTACH;FMTTYPE=image/jpeg:https://www.oceaniafootball.com/cms/wp-content/uploads/2018/09/180916PT027.jpg
END:VEVENT
BEGIN:VEVENT
DTSTART;VALUE=DATE:20180120
DTEND;VALUE=DATE:20180521
DTSTAMP:20260426T111500
CREATED:20180109T040337Z
LAST-MODIFIED:20180115T021726Z
UID:29418-1516406400-1526860799@www.oceaniafootball.com
SUMMARY:OFC Champions League 2018 Qualifier
DESCRIPTION:Qualifier – American Samoa \nOFC Champions League 2018 - Qualifying Stage\n                          Fixtures and Results\n                          Table\n                          Goalscorers\n                    \n                        Match Day 1\n                            Report\n                        \n                            \n                                Match 1\n                                20.01.2018.\n                                12:00\n                                Pago Park Soccer Stadium\n                            \n                            Tupapa Maraerenga FC\n                            1 : 0\n                            Lupe Ole Soaga SC\n                            \n                                \n                                    \n                                \n                            \n                        \n                        \n                            \n                                Match 2\n                                20.01.2018.\n                                15:00\n                                Pago Park Soccer Stadium\n                            \n                            Veitongo FC\n                            1 : 1\n                            Pago Youth\n                            \n                                \n                                    \n                                \n                            \n                        Match Day 2\n                            Report\n                        \n                            \n                                Match 3\n                                23.01.2018.\n                                12:00\n                                Pago Park Soccer Stadium\n                            \n                            Veitongo FC\n                            2 : 9\n                            Tupapa Maraerenga FC\n                            \n                                \n                                    \n                                \n                            \n                        \n                        \n                            \n                                Match 4\n                                23.01.2018.\n                                15:00\n                                Pago Park Soccer Stadium\n                            \n                            Pago Youth\n                            1 : 13\n                            Lupe Ole Soaga SC\n                            \n                                \n                                    \n                                \n                            \n                        Match Day 3\n                            Report\n                        \n                            \n                                Match 5\n                                26.01.2018.\n                                12:00\n                                Pago Park Soccer Stadium\n                            \n                            Lupe Ole Soaga SC\n                            6 : 0\n                            Veitongo FC\n                            \n                                \n                                    \n                                \n                            \n                        \n                        \n                            \n                                Match 6\n                                26.01.2018.\n                                15:00\n                                Pago Park Soccer Stadium\n                            \n                            Pago Youth\n                            0 : 5\n                            Tupapa Maraerenga FC\n                            \n                                \n                                    \n                                \n                            \n                        \n            \n                \n                    \n                        #\n                        Club\n                        Tot\n                        Won\n                        Draw\n                        Lost\n                        G+\n                        G-\n                        GD\n                        Pt\n                    \n                    \n                        1\n                        Tupapa Maraerenga FC\n                        3\n                        3\n                        0\n                        0\n                        15\n                        2\n                        13\n                        9\n                    \n                \n                    \n                        2\n                        Lupe Ole Soaga SC\n                        3\n                        2\n                        0\n                        1\n                        19\n                        2\n                        17\n                        6\n                    \n                \n                    \n                        3\n                        Veitongo FC\n                        3\n                        0\n                        1\n                        2\n                        3\n                        16\n                        -13\n                        1\n                    \n                \n                    \n                        4\n                        Pago Youth\n                        3\n                        0\n                        1\n                        2\n                        2\n                        19\n                        -17\n                        1\n                    \n                \n                \n            \n            \n                \n                    \n                        6 Goals\n                    \n                    \n                        Suivai ATAGA  (Lupe Ole Soaga SC)\n                        \n                    \n                    \n                    \n                        5 Goals\n                    \n                    \n                        Maro BONSU-MARO  (Tupapa Maraerenga FC)\, Sean LATIMER  (Tupapa Maraerenga FC)\n                        \n                    \n                    \n                    \n                        2 Goals\n                    \n                    \n                        Bird VAGAIA (Lupe Ole Soaga SC)\, Darren ALATINA TALILAI  (Lupe Ole Soaga SC)\, Faafua ATAGA LALOATA  (Lupe Ole Soaga SC)\, Geoffrey STRICKLAND  (Tupapa Maraerenga FC)\, Hone FOWLER  (Tupapa Maraerenga FC)\, Lapalapa TONI  (Lupe Ole Soaga SC)\, Vai LUTU  (Veitongo FC)\n                        \n                    \n                    \n                    \n                        1 Goal\n                    \n                    \n                        Andrew SETEFANO  (Lupe Ole Soaga SC)\, Grover HARMON  (Tupapa Maraerenga FC)\, Ken KEREWI  (Lupe Ole Soaga SC)\, Kevin AH KUOI  (Lupe Ole Soaga SC)\, Michael FIFI'I  (Lupe Ole Soaga SC)\, Nissan PENITUSI  (Pago Youth)\, Roy LEDOUX  (Pago Youth)\, Samuelu MALO  (Lupe Ole Soaga SC)\, Sione UHATAHI  (Veitongo FC)\n                        \n                    \n                    \n                \n            \n 
URL:https://www.oceaniafootball.com/events/ofc-champions-league-2018-qualifer/
CATEGORIES:Champions League
ATTACH;FMTTYPE=image/png:https://www.oceaniafootball.com/cms/wp-content/uploads/2016/12/OCL-web-2.png
END:VEVENT
END:VCALENDAR