BEGIN:VCALENDAR
VERSION:2.0
PRODID:-//Oceania Football Confederation - ECPv6.0.2//NONSGML v1.0//EN
CALSCALE:GREGORIAN
METHOD:PUBLISH
X-WR-CALNAME:Oceania Football Confederation
X-ORIGINAL-URL:https://www.oceaniafootball.com
X-WR-CALDESC:Events for Oceania Football Confederation
REFRESH-INTERVAL;VALUE=DURATION:PT1H
X-Robots-Tag:noindex
X-PUBLISHED-TTL:PT1H
BEGIN:VTIMEZONE
TZID:Pacific/Auckland
BEGIN:STANDARD
TZOFFSETFROM:+1300
TZOFFSETTO:+1200
TZNAME:NZST
DTSTART:20190406T140000
END:STANDARD
BEGIN:DAYLIGHT
TZOFFSETFROM:+1200
TZOFFSETTO:+1300
TZNAME:NZDT
DTSTART:20190928T140000
END:DAYLIGHT
END:VTIMEZONE
BEGIN:VEVENT
DTSTART;VALUE=DATE:20191205
DTEND;VALUE=DATE:20191209
DTSTAMP:20260423T122236
CREATED:20191129T020149Z
LAST-MODIFIED:20200527T012619Z
UID:35340-1575504000-1575849599@www.oceaniafootball.com
SUMMARY:OFC Futsal Champions League 2019
DESCRIPTION:
URL:https://www.oceaniafootball.com/events/ofc-futsal-champions-league-2019/
LOCATION:Barfoot & Thompson Stadium\, Selwyn College Grounds 203 Kohimarama Road\, Kohimarama\,\, Auckland\, 1071\, New Zealand
ATTACH;FMTTYPE=image/png:https://www.oceaniafootball.com/cms/wp-content/uploads/2019/11/OFC-Futsal-Champions-League-Horizontal.png
GEO:-36.8620028;174.8369668
X-APPLE-STRUCTURED-LOCATION;VALUE=URI;X-ADDRESS=Barfoot & Thompson Stadium Selwyn College Grounds 203 Kohimarama Road Kohimarama Auckland 1071 New Zealand;X-APPLE-RADIUS=500;X-TITLE=Selwyn College Grounds 203 Kohimarama Road\, Kohimarama\,:geo:174.8369668,-36.8620028
END:VEVENT
END:VCALENDAR