BEGIN:VCALENDAR
VERSION:2.0
PRODID:-//Oceania Football Confederation - ECPv6.0.2//NONSGML v1.0//EN
CALSCALE:GREGORIAN
METHOD:PUBLISH
X-WR-CALNAME:Oceania Football Confederation
X-ORIGINAL-URL:https://www.oceaniafootball.com
X-WR-CALDESC:Events for Oceania Football Confederation
REFRESH-INTERVAL;VALUE=DURATION:PT1H
X-Robots-Tag:noindex
X-PUBLISHED-TTL:PT1H
BEGIN:VTIMEZONE
TZID:Pacific/Fiji
BEGIN:STANDARD
TZOFFSETFROM:+1300
TZOFFSETTO:+1200
TZNAME:+12
DTSTART:20230114T140000
END:STANDARD
BEGIN:DAYLIGHT
TZOFFSETFROM:+1200
TZOFFSETTO:+1300
TZNAME:+13
DTSTART:20231111T140000
END:DAYLIGHT
TZID:Pacific/Auckland
BEGIN:STANDARD
TZOFFSETFROM:+1300
TZOFFSETTO:+1200
TZNAME:NZST
DTSTART:20190406T140000
END:STANDARD
BEGIN:DAYLIGHT
TZOFFSETFROM:+1200
TZOFFSETTO:+1300
TZNAME:NZDT
DTSTART:20190928T140000
END:DAYLIGHT
END:VTIMEZONE
BEGIN:VEVENT
DTSTART;VALUE=DATE:20230111
DTEND;VALUE=DATE:20230129
DTSTAMP:20260425T013431
CREATED:20221108T224405Z
LAST-MODIFIED:20230108T205735Z
UID:45626-1673395200-1674950399@www.oceaniafootball.com
SUMMARY:OFC U-17 Championship 2023
DESCRIPTION:
URL:https://www.oceaniafootball.com/events/ofc-u-17-championship-2023/
LOCATION:Fiji\, Fiji
ATTACH;FMTTYPE=image/jpeg:https://www.oceaniafootball.com/cms/wp-content/uploads/2023/01/Image.jpeg
GEO:-17.713371;178.065032
END:VEVENT
BEGIN:VEVENT
DTSTART;VALUE=DATE:20190921
DTEND;VALUE=DATE:20191006
DTSTAMP:20260425T013431
CREATED:20190908T203237Z
LAST-MODIFIED:20190917T072549Z
UID:34245-1569024000-1570319999@www.oceaniafootball.com
SUMMARY:OFC Men's Olympic Qualifier 2019
DESCRIPTION:
URL:https://www.oceaniafootball.com/events/ofc-mens-olympic-qualifier-2019/
LOCATION:Fiji\, Fiji
CATEGORIES:OFC Men's Olympic Qualifier 2019
ATTACH;FMTTYPE=image/png:https://www.oceaniafootball.com/cms/wp-content/uploads/2019/09/Schedule.png
GEO:-17.713371;178.065032
END:VEVENT
END:VCALENDAR