BEGIN:VCALENDAR
VERSION:2.0
PRODID:-//Oceania Football Confederation - ECPv6.0.2//NONSGML v1.0//EN
CALSCALE:GREGORIAN
METHOD:PUBLISH
X-ORIGINAL-URL:https://www.oceaniafootball.com
X-WR-CALDESC:Events for Oceania Football Confederation
REFRESH-INTERVAL;VALUE=DURATION:PT1H
X-Robots-Tag:noindex
X-PUBLISHED-TTL:PT1H
BEGIN:VTIMEZONE
TZID:Pacific/Auckland
BEGIN:STANDARD
TZOFFSETFROM:+1300
TZOFFSETTO:+1200
TZNAME:NZST
DTSTART:20250405T140000
END:STANDARD
BEGIN:DAYLIGHT
TZOFFSETFROM:+1200
TZOFFSETTO:+1300
TZNAME:NZDT
DTSTART:20250927T140000
END:DAYLIGHT
END:VTIMEZONE
BEGIN:VEVENT
DTSTART;VALUE=DATE:20250920
DTEND;VALUE=DATE:20250925
DTSTAMP:20260420T222648
CREATED:20250113T023108Z
LAST-MODIFIED:20250113T023108Z
UID:61030-1758326400-1758758399@www.oceaniafootball.com
SUMMARY:OFC Futsal Men's Cup 2025
DESCRIPTION:
URL:https://www.oceaniafootball.com/events/ofc-futsal-mens-cup-2025/
LOCATION:Honiara\, Solomon Islands
END:VEVENT
BEGIN:VEVENT
DTSTART;VALUE=DATE:20250815
DTEND;VALUE=DATE:20250831
DTSTAMP:20260420T222648
CREATED:20250113T022917Z
LAST-MODIFIED:20250113T022917Z
UID:61027-1755216000-1756598399@www.oceaniafootball.com
SUMMARY:OFC U-16 Men's Championship 2025
DESCRIPTION:
URL:https://www.oceaniafootball.com/events/ofc-u-16-mens-championship-2025/
LOCATION:Honiara\, Solomon Islands
END:VEVENT
BEGIN:VEVENT
DTSTART;VALUE=DATE:20250330
DTEND;VALUE=DATE:20250413
DTSTAMP:20260420T222648
CREATED:20250113T022001Z
LAST-MODIFIED:20250113T022001Z
UID:61011-1743292800-1744502399@www.oceaniafootball.com
SUMMARY:OFC Men's Champions League 2025
DESCRIPTION:
URL:https://www.oceaniafootball.com/events/ofc-mens-champions-league-2025/
LOCATION:Honiara\, Solomon Islands
END:VEVENT
END:VCALENDAR