BEGIN:VCALENDAR
VERSION:2.0
PRODID:-//Oceania Football Confederation - ECPv6.0.2//NONSGML v1.0//EN
CALSCALE:GREGORIAN
METHOD:PUBLISH
X-WR-CALNAME:Oceania Football Confederation
X-ORIGINAL-URL:https://www.oceaniafootball.com
X-WR-CALDESC:Events for Oceania Football Confederation
REFRESH-INTERVAL;VALUE=DURATION:PT1H
X-Robots-Tag:noindex
X-PUBLISHED-TTL:PT1H
BEGIN:VTIMEZONE
TZID:Pacific/Auckland
BEGIN:STANDARD
TZOFFSETFROM:+1300
TZOFFSETTO:+1200
TZNAME:NZST
DTSTART:20260404T140000
END:STANDARD
BEGIN:DAYLIGHT
TZOFFSETFROM:+1200
TZOFFSETTO:+1300
TZNAME:NZDT
DTSTART:20260926T140000
END:DAYLIGHT
END:VTIMEZONE
BEGIN:VEVENT
DTSTART;VALUE=DATE:20260131
DTEND;VALUE=DATE:20260209
DTSTAMP:20260422T140940
CREATED:20260107T030425Z
LAST-MODIFIED:20260107T030425Z
UID:66524-1769817600-1770595199@www.oceaniafootball.com
SUMMARY:OFC Pro League - Round 2
DESCRIPTION:
URL:https://www.oceaniafootball.com/events/ofc-pro-league-round-2/
LOCATION:Port Moresby\, Papua New Guinea\, Papua New Guinea
END:VEVENT
END:VCALENDAR