BEGIN:VCALENDAR
VERSION:2.0
PRODID:-//Oceania Football Confederation - ECPv6.0.2//NONSGML v1.0//EN
CALSCALE:GREGORIAN
METHOD:PUBLISH
X-ORIGINAL-URL:https://www.oceaniafootball.com
X-WR-CALDESC:Events for Oceania Football Confederation
REFRESH-INTERVAL;VALUE=DURATION:PT1H
X-Robots-Tag:noindex
X-PUBLISHED-TTL:PT1H
BEGIN:VTIMEZONE
TZID:Pacific/Tahiti
BEGIN:STANDARD
TZOFFSETFROM:-1000
TZOFFSETTO:-1000
TZNAME:-10
DTSTART:20220101T000000
END:STANDARD
END:VTIMEZONE
BEGIN:VEVENT
DTSTART;TZID=Pacific/Tahiti:20230217T200000
DTEND;TZID=Pacific/Tahiti:20230217T220000
DTSTAMP:20260425T043610
CREATED:20230207T120653Z
LAST-MODIFIED:20230207T120653Z
UID:46245-1676664000-1676671200@www.oceaniafootball.com
SUMMARY:OFC Champions League 2023 - National Playoff
DESCRIPTION:
URL:https://www.oceaniafootball.com/events/ofc-champions-league-2023-national-playoff-5/2023-02-17/
LOCATION:Stade Pater\, Tahiti
GEO:-17.6509195;-149.4260421
END:VEVENT
BEGIN:VEVENT
DTSTART;VALUE=DATE:20220907
DTEND;VALUE=DATE:20220925
DTSTAMP:20260425T043610
CREATED:20220810T035345Z
LAST-MODIFIED:20220905T105522Z
UID:44594-1662508800-1664063999@www.oceaniafootball.com
SUMMARY:OFC U-19 Championship 2022
DESCRIPTION:
URL:https://www.oceaniafootball.com/events/ofc-u-19-championship-2022/
LOCATION:Stade Pater\, Tahiti
ATTACH;FMTTYPE=image/jpeg:https://www.oceaniafootball.com/cms/wp-content/uploads/2022/09/MicrosoftTeams-image-26.jpg
GEO:-17.6509195;-149.4260421
END:VEVENT
END:VCALENDAR